BEGIN:VCALENDAR
VERSION:2.0
PRODID:-//The Center for Pranic Healing Maryland - ECPv6.15.20//NONSGML v1.0//EN
CALSCALE:GREGORIAN
METHOD:PUBLISH
X-WR-CALNAME:The Center for Pranic Healing Maryland
X-ORIGINAL-URL:https://pranichealingmd.com
X-WR-CALDESC:Events for The Center for Pranic Healing Maryland
REFRESH-INTERVAL;VALUE=DURATION:PT1H
X-Robots-Tag:noindex
X-PUBLISHED-TTL:PT1H
BEGIN:VTIMEZONE
TZID:America/New_York
BEGIN:DAYLIGHT
TZOFFSETFROM:-0500
TZOFFSETTO:-0400
TZNAME:EDT
DTSTART:20250309T070000
END:DAYLIGHT
BEGIN:STANDARD
TZOFFSETFROM:-0400
TZOFFSETTO:-0500
TZNAME:EST
DTSTART:20251102T060000
END:STANDARD
BEGIN:DAYLIGHT
TZOFFSETFROM:-0500
TZOFFSETTO:-0400
TZNAME:EDT
DTSTART:20260308T070000
END:DAYLIGHT
BEGIN:STANDARD
TZOFFSETFROM:-0400
TZOFFSETTO:-0500
TZNAME:EST
DTSTART:20261101T060000
END:STANDARD
BEGIN:DAYLIGHT
TZOFFSETFROM:-0500
TZOFFSETTO:-0400
TZNAME:EDT
DTSTART:20270314T070000
END:DAYLIGHT
BEGIN:STANDARD
TZOFFSETFROM:-0400
TZOFFSETTO:-0500
TZNAME:EST
DTSTART:20271107T060000
END:STANDARD
END:VTIMEZONE
BEGIN:VEVENT
DTSTART;TZID=America/New_York:20260516T090000
DTEND;TZID=America/New_York:20260517T180000
DTSTAMP:20260424T230832
CREATED:20240211T224816Z
LAST-MODIFIED:20260206T194051Z
UID:9974-1778922000-1779040800@pranichealingmd.com
SUMMARY:Basic Pranic Healing Level 1
DESCRIPTION:Pranic Healing is a highly evolved and tested system of energy medicine developed by Grand Master Choa Kok Sui that utilizes Prana (energy) to balance\, harmonize and transform the body’s energy process. \nYour Takeaways: \nThis two-day Practical Course in Energy Healing covers:\n– Learn about your energy anatomy\n– Experience feeling your own energy\n– Self and distant healing for acute/chronic issues\n– Wellness maintenance\n– Tools to accelerate healing for ourselves and our loved ones\n– Meditate of Inner Peace\n– And much more… \nSelf Investment: \n$450 Early Bird ends May 9\, 2026.\n$525 Regular | Review $100 \n**Save more when you take Basic\, Advanced\, Psychotherapy\, and Crystal**
URL:https://pranichealingmd.com/event/basic-pranic-healing-level-1/
LOCATION:The Center for Pranic Healing Maryland\, 8808 Centre Park Dr.\, Suite 108\, Columbia\, MD\, 21045\, United States
ATTACH;FMTTYPE=image/png:https://pranichealingmd.com/wp-content/uploads/2024/02/BPH_May-2026.png
END:VEVENT
END:VCALENDAR