BEGIN:VCALENDAR
VERSION:2.0
PRODID:-//The Center for Pranic Healing Maryland - ECPv6.15.20//NONSGML v1.0//EN
CALSCALE:GREGORIAN
METHOD:PUBLISH
X-WR-CALNAME:The Center for Pranic Healing Maryland
X-ORIGINAL-URL:https://pranichealingmd.com
X-WR-CALDESC:Events for The Center for Pranic Healing Maryland
REFRESH-INTERVAL;VALUE=DURATION:PT1H
X-Robots-Tag:noindex
X-PUBLISHED-TTL:PT1H
BEGIN:VTIMEZONE
TZID:America/New_York
BEGIN:DAYLIGHT
TZOFFSETFROM:-0500
TZOFFSETTO:-0400
TZNAME:EDT
DTSTART:20220313T070000
END:DAYLIGHT
BEGIN:STANDARD
TZOFFSETFROM:-0400
TZOFFSETTO:-0500
TZNAME:EST
DTSTART:20221106T060000
END:STANDARD
BEGIN:DAYLIGHT
TZOFFSETFROM:-0500
TZOFFSETTO:-0400
TZNAME:EDT
DTSTART:20230312T070000
END:DAYLIGHT
BEGIN:STANDARD
TZOFFSETFROM:-0400
TZOFFSETTO:-0500
TZNAME:EST
DTSTART:20231105T060000
END:STANDARD
BEGIN:DAYLIGHT
TZOFFSETFROM:-0500
TZOFFSETTO:-0400
TZNAME:EDT
DTSTART:20240310T070000
END:DAYLIGHT
BEGIN:STANDARD
TZOFFSETFROM:-0400
TZOFFSETTO:-0500
TZNAME:EST
DTSTART:20241103T060000
END:STANDARD
END:VTIMEZONE
BEGIN:VEVENT
DTSTART;TZID=America/New_York:20230210T180000
DTEND;TZID=America/New_York:20230212T210000
DTSTAMP:20260420T131755
CREATED:20221215T132658Z
LAST-MODIFIED:20230127T122853Z
UID:9780-1676052000-1676235600@pranichealingmd.com
SUMMARY:Crystal & Psychotherapy
DESCRIPTION:Please join for two powerful higher level courses offered by Master Glenn Mendoza who is 1 of 8 Masters in the East Coast. \nThe Pranic Crystal Healing workshop includes:\n\nThe 4 Principles of processing and utilizing crystals and gemstones for healing and other specific purposes.\nTo increase healing abilities\, provide psychic self-defense protection and increase the potency of our energy fields with crystals.\nHow to clean crystals and gems\, deprogram negative impressions and old programs\, and then program the crystals and gems to follow specific instructions.\nHow to instruct crystals to extract\, disintegrate\, transmute diseased energies from the chakras and auras.\nHow to apply Pranic Healing with color prana with the quartz crystals and increase the potency of the crystal by charging and consecration.\nHow to use crystals or gems for psychic self-defense and how to strengthen the aura.\nThe “DON’Ts” of pranic crystal healing.\n\nPrerequisite: Basic Pranic Healing\, Advanced Pranic Healing and Pranic Psychotherapy \nCourse Dates: \nFebruary 10\, 2023 from 6pm to 10pm\nFebruary 11\, 2023 from 9am to 6pm \nCourse Fee:\n$400 Early Bird ends February 4\, 2023. Coupon code: EarlyBird\n$425 Regular| $100 Review \n************************************************************************************ \nThe Pranic Psychotherapy workshop includes:\n\nPrinciples and methods to identify\, cleanse and disintegrate psychic energies and influences in the energy field that cause stress\, irritability\, anxiety\, grief\, hysteria\, phobias\, obsessions\, compulsions\, addictions\, depression\, violence\, paranoia and other psychological problems.\nTechniques to treat sexual problems and “spiritual possessions.”\nPranic Psychotherapy methods for the prevention of psychological ailments and for healing by affirmation.\nTechniques to shield the patient’s aura and energy centers.\nTechniques for decontamination of the healer\, objects and environment.\n\nPrerequisite: Basic Pranic Healing and Advanced Pranic Healing \nCourse Dates: \nFebruary 12\, 2023 from 9am to 9pm \nCourse Fee:\n$400 Early Bird ends February 4\, 2023. Coupon code: EarlyBird\n$425 Regular| $100 Review \nHotel Rooms:\nTo book a room at Homewood Suites please call 1-800-737-8147. \nNOTE: All rooms with discounted rate is sold out. You may still book a room by calling the number\, but it will be regular price. There are other hotels in the area.
URL:https://pranichealingmd.com/event/crystal-psychotherapy/
LOCATION:Homewood Suites BWI\, 1181 Winterson Road\, Linthicum\, MD\, 21090\, United States
ATTACH;FMTTYPE=image/png:https://pranichealingmd.com/wp-content/uploads/2022/12/CPH-PPH_Feb-2023-4.png
END:VEVENT
END:VCALENDAR