BEGIN:VCALENDAR
VERSION:2.0
PRODID:-//The Center for Pranic Healing Maryland - ECPv6.15.20//NONSGML v1.0//EN
CALSCALE:GREGORIAN
METHOD:PUBLISH
X-WR-CALNAME:The Center for Pranic Healing Maryland
X-ORIGINAL-URL:https://pranichealingmd.com
X-WR-CALDESC:Events for The Center for Pranic Healing Maryland
REFRESH-INTERVAL;VALUE=DURATION:PT1H
X-Robots-Tag:noindex
X-PUBLISHED-TTL:PT1H
BEGIN:VTIMEZONE
TZID:America/New_York
BEGIN:DAYLIGHT
TZOFFSETFROM:-0500
TZOFFSETTO:-0400
TZNAME:EDT
DTSTART:20250309T070000
END:DAYLIGHT
BEGIN:STANDARD
TZOFFSETFROM:-0400
TZOFFSETTO:-0500
TZNAME:EST
DTSTART:20251102T060000
END:STANDARD
BEGIN:DAYLIGHT
TZOFFSETFROM:-0500
TZOFFSETTO:-0400
TZNAME:EDT
DTSTART:20260308T070000
END:DAYLIGHT
BEGIN:STANDARD
TZOFFSETFROM:-0400
TZOFFSETTO:-0500
TZNAME:EST
DTSTART:20261101T060000
END:STANDARD
BEGIN:DAYLIGHT
TZOFFSETFROM:-0500
TZOFFSETTO:-0400
TZNAME:EDT
DTSTART:20270314T070000
END:DAYLIGHT
BEGIN:STANDARD
TZOFFSETFROM:-0400
TZOFFSETTO:-0500
TZNAME:EST
DTSTART:20271107T060000
END:STANDARD
END:VTIMEZONE
BEGIN:VEVENT
DTSTART;TZID=America/New_York:20260801T090000
DTEND;TZID=America/New_York:20260802T180000
DTSTAMP:20260424T095405
CREATED:20220718T033646Z
LAST-MODIFIED:20260320T222526Z
UID:9521-1785574800-1785693600@pranichealingmd.com
SUMMARY:Pranic FaceLift & Body Sculpting
DESCRIPTION:✨ Transform Beauty\, Rejuvenation & Healing — Live in Baltimore ✨ \nWe are thrilled to welcome Master Marilag to Baltimore\, Maryland for an exclusive Pranic Facelift & Pranic Body Sculpting Workshop — a powerful\, results-driven training designed to elevate both your healing practice and your personal transformation. \nThis advanced workshop teaches you proven techniques to restore youthfulness\, enhance beauty\, and accelerate healing at the energetic level. \n🔥 In this immersive training\, you will learn how to:• Reduce visible signs of aging• Rejuvenate the face and enhance natural glow• Heal and energize organs connected to facial rejuvenation• Use Twin Hearts Meditation to accelerate healing results• Disintegrate energies that cause premature aging• Release psycho-emotional patterns that contribute to excess body weight• Perform Self-Pranic Body Sculpting• Contour the waistline for a more defined\, confident look• And so much more \n💎 Who Should Attend:Highly recommended for Pranic Healers\, especially those specializing in health\, beauty\, and wellness. This is a must-learn workshop for doctors\, therapists\, and specialists in skin care\, nutrition\, and weight loss\, as it introduces powerful techniques that perfectly complement medical treatments. \n📌 Pre-Requisite:Participants must have completed Basic Pranic Healing\, Advanced Pranic Healing\, Pranic Crystal Healing\, and Pranic Psychotherapy. \n💰 Course Investment:• $550 Early Bird (ends July 25\, 2026)• $650 Regular• $165 Review Fee \n🏨 Accommodation:You may book a room at the hotel venue for convenience and a more immersive experience. There are options for King or Double beds.👉 Book your stay here \n🚀 Limited seats available — secure your spot and master advanced beauty and body sculpting techniques with Master Marilag. \n 
URL:https://pranichealingmd.com/event/pranic-body-sculpting-and-facelift/
LOCATION:Homewood Suites BWI\, 1181 Winterson Road\, Linthicum\, MD\, 21090\, United States
ATTACH;FMTTYPE=image/png:https://pranichealingmd.com/wp-content/uploads/2022/07/Pranic-Facelift-and-Body-Sculpting-2026-1300-x-660-mm-scaled.png
END:VEVENT
END:VCALENDAR